BEGIN:VCALENDAR
VERSION:2.0
PRODID:-// - ECPv6.15.17.1//NONSGML v1.0//EN
CALSCALE:GREGORIAN
METHOD:PUBLISH
X-ORIGINAL-URL:https://littlehamptoncameraclub.co.uk
X-WR-CALDESC:Events for 
REFRESH-INTERVAL;VALUE=DURATION:PT1H
X-Robots-Tag:noindex
X-PUBLISHED-TTL:PT1H
BEGIN:VTIMEZONE
TZID:Europe/London
BEGIN:DAYLIGHT
TZOFFSETFROM:+0000
TZOFFSETTO:+0100
TZNAME:BST
DTSTART:20240331T010000
END:DAYLIGHT
BEGIN:STANDARD
TZOFFSETFROM:+0100
TZOFFSETTO:+0000
TZNAME:GMT
DTSTART:20241027T010000
END:STANDARD
BEGIN:DAYLIGHT
TZOFFSETFROM:+0000
TZOFFSETTO:+0100
TZNAME:BST
DTSTART:20250330T010000
END:DAYLIGHT
BEGIN:STANDARD
TZOFFSETFROM:+0100
TZOFFSETTO:+0000
TZNAME:GMT
DTSTART:20251026T010000
END:STANDARD
BEGIN:DAYLIGHT
TZOFFSETFROM:+0000
TZOFFSETTO:+0100
TZNAME:BST
DTSTART:20260329T010000
END:DAYLIGHT
BEGIN:STANDARD
TZOFFSETFROM:+0100
TZOFFSETTO:+0000
TZNAME:GMT
DTSTART:20261025T010000
END:STANDARD
END:VTIMEZONE
BEGIN:VEVENT
DTSTART;VALUE=DATE:20251112
DTEND;VALUE=DATE:20251113
DTSTAMP:20260424T115046
CREATED:20250830T203432Z
LAST-MODIFIED:20250830T204612Z
UID:187-1762905600-1762991999@littlehamptoncameraclub.co.uk
SUMMARY:Deadline: Sussex Scene Competitions
DESCRIPTION:
URL:https://littlehamptoncameraclub.co.uk/event/deadline-sussex-scene-competitions-2/
CATEGORIES:Deadlines for entries
END:VEVENT
BEGIN:VEVENT
DTSTART;TZID=Europe/London:20251112T193000
DTEND;TZID=Europe/London:20251112T213000
DTSTAMP:20260424T115046
CREATED:20250620T155457Z
LAST-MODIFIED:20250620T155457Z
UID:58-1762975800-1762983000@littlehamptoncameraclub.co.uk
SUMMARY:Falklands Islands Adventure - Mike Cullis
DESCRIPTION:📅 Guest Speaker – 12th November 2025\n🎤 Mike Cullis ARPS DPAGBTalk: “Falkland Islands Adventure” \nWe’re thrilled to welcome Mike Cullis ARPS DPAGB to Littlehampton Camera Club on Wednesday 12th November 2025 for what promises to be a truly captivating evening. \nIn his illustrated talk\, “Falkland Islands Adventure”\, Mike shares his experiences and images from an unforgettable trip to one of the world’s most remote and wildlife-rich destinations. From dramatic landscapes to incredible birdlife and marine mammals\, the Falklands offer a wealth of photographic inspiration — and Mike brings it vividly to life through his lens. \n🌍 Expect a mix of travel photography\, wildlife encounters\, and storytelling from a skilled and passionate photographer. \n\n🔍 Perfect for:\n\n\nNature and wildlife photography enthusiasts \n\n\nTravellers at heart who love seeing the world through a lens \n\n\nLearning about the unique photographic challenges of remote locations \n\n\nAn inspiring evening of stunning imagery and expert commentary
URL:https://littlehamptoncameraclub.co.uk/event/falklands-islands-adventure-mike-cullis/
LOCATION:Rustington Methodist Hall\, Claigmar road\, Littlehampton\, west sussex\, BN16 2NL\, United Kingdom
CATEGORIES:Club Evening
END:VEVENT
END:VCALENDAR