BEGIN:VCALENDAR
VERSION:2.0
PRODID:-// - ECPv6.15.17.1//NONSGML v1.0//EN
CALSCALE:GREGORIAN
METHOD:PUBLISH
X-ORIGINAL-URL:https://littlehamptoncameraclub.co.uk
X-WR-CALDESC:Events for 
REFRESH-INTERVAL;VALUE=DURATION:PT1H
X-Robots-Tag:noindex
X-PUBLISHED-TTL:PT1H
BEGIN:VTIMEZONE
TZID:Europe/London
BEGIN:DAYLIGHT
TZOFFSETFROM:+0000
TZOFFSETTO:+0100
TZNAME:BST
DTSTART:20240331T010000
END:DAYLIGHT
BEGIN:STANDARD
TZOFFSETFROM:+0100
TZOFFSETTO:+0000
TZNAME:GMT
DTSTART:20241027T010000
END:STANDARD
BEGIN:DAYLIGHT
TZOFFSETFROM:+0000
TZOFFSETTO:+0100
TZNAME:BST
DTSTART:20250330T010000
END:DAYLIGHT
BEGIN:STANDARD
TZOFFSETFROM:+0100
TZOFFSETTO:+0000
TZNAME:GMT
DTSTART:20251026T010000
END:STANDARD
BEGIN:DAYLIGHT
TZOFFSETFROM:+0000
TZOFFSETTO:+0100
TZNAME:BST
DTSTART:20260329T010000
END:DAYLIGHT
BEGIN:STANDARD
TZOFFSETFROM:+0100
TZOFFSETTO:+0000
TZNAME:GMT
DTSTART:20261025T010000
END:STANDARD
END:VTIMEZONE
BEGIN:VEVENT
DTSTART;TZID=Europe/London:20251105T193000
DTEND;TZID=Europe/London:20251105T213000
DTSTAMP:20260423T221151
CREATED:20250620T155244Z
LAST-MODIFIED:20250620T155253Z
UID:56-1762371000-1762378200@littlehamptoncameraclub.co.uk
SUMMARY:Practical evening
DESCRIPTION:📅 Practical Evening – 5th November 2025\n🔧 Hands-On Photography NightTopic: To Be Announced \nJoin us on Wednesday 5th November 2025 for another of our popular Practical Evenings – a chance to get hands-on with your camera and try something new! \nThe specific subject is still being finalised\, but you can expect an interactive session designed to help you practise techniques\, experiment with different setups\, and gain confidence with your equipment. \nWhether it's creative lighting\, still life\, portraiture\, or something seasonal\, this evening will be a fun and relaxed opportunity to learn by doing. \n📷 Don’t forget to bring your camera (or smartphone) and be ready to get involved! \n\n🔍 Perfect for:\n\n\nBuilding your technical skills in a supportive setting \n\n\nTrying new techniques and styles \n\n\nLearning alongside fellow members \n\n\nGetting tips and tricks from more experienced photographers
URL:https://littlehamptoncameraclub.co.uk/event/practical-evening/
LOCATION:Rustington Methodist Hall\, Claigmar road\, Littlehampton\, west sussex\, BN16 2NL\, United Kingdom
CATEGORIES:Club Evening
END:VEVENT
END:VCALENDAR